BEGIN:VCALENDAR
VERSION:2.0
PRODID:-//Bringing Out the Best - ECPv6.15.17//NONSGML v1.0//EN
CALSCALE:GREGORIAN
METHOD:PUBLISH
X-ORIGINAL-URL:https://bringingoutthebest.uncg.edu
X-WR-CALDESC:Events for Bringing Out the Best
REFRESH-INTERVAL;VALUE=DURATION:PT1H
X-Robots-Tag:noindex
X-PUBLISHED-TTL:PT1H
BEGIN:VTIMEZONE
TZID:America/New_York
BEGIN:DAYLIGHT
TZOFFSETFROM:-0500
TZOFFSETTO:-0400
TZNAME:EDT
DTSTART:20230312T070000
END:DAYLIGHT
BEGIN:STANDARD
TZOFFSETFROM:-0400
TZOFFSETTO:-0500
TZNAME:EST
DTSTART:20231105T060000
END:STANDARD
BEGIN:DAYLIGHT
TZOFFSETFROM:-0500
TZOFFSETTO:-0400
TZNAME:EDT
DTSTART:20240310T070000
END:DAYLIGHT
BEGIN:STANDARD
TZOFFSETFROM:-0400
TZOFFSETTO:-0500
TZNAME:EST
DTSTART:20241103T060000
END:STANDARD
BEGIN:DAYLIGHT
TZOFFSETFROM:-0500
TZOFFSETTO:-0400
TZNAME:EDT
DTSTART:20250309T070000
END:DAYLIGHT
BEGIN:STANDARD
TZOFFSETFROM:-0400
TZOFFSETTO:-0500
TZNAME:EST
DTSTART:20251102T060000
END:STANDARD
BEGIN:DAYLIGHT
TZOFFSETFROM:-0500
TZOFFSETTO:-0400
TZNAME:EDT
DTSTART:20260308T070000
END:DAYLIGHT
BEGIN:STANDARD
TZOFFSETFROM:-0400
TZOFFSETTO:-0500
TZNAME:EST
DTSTART:20261101T060000
END:STANDARD
BEGIN:DAYLIGHT
TZOFFSETFROM:-0500
TZOFFSETTO:-0400
TZNAME:EDT
DTSTART:20270314T070000
END:DAYLIGHT
BEGIN:STANDARD
TZOFFSETFROM:-0400
TZOFFSETTO:-0500
TZNAME:EST
DTSTART:20271107T060000
END:STANDARD
END:VTIMEZONE
BEGIN:VEVENT
DTSTART;TZID=America/New_York:20260421T183000
DTEND;TZID=America/New_York:20260421T200000
DTSTAMP:20260424T211957
CREATED:20250829T210308Z
LAST-MODIFIED:20260316T151757Z
UID:10000036-1776796200-1776801600@bringingoutthebest.uncg.edu
SUMMARY:Keep the Peace: Using Conflict Resolution Skills in the Classroom *** Registration is Open!
DESCRIPTION:Register Here  \nDownload Flyer
URL:https://bringingoutthebest.uncg.edu/event/keep-the-peace-using-conflict-resolution-skills-in-the-classroom/
LOCATION:Starmount Presbyterian Church\, 3501 West Market St\, Greensboro\, NC\, 27403\, United States
CATEGORIES:Teacher Training
ATTACH;FMTTYPE=image/png:https://bringingoutthebest.uncg.edu/wp-content/uploads/2025/08/Bringing-Out-the-Best-2.png
END:VEVENT
BEGIN:VEVENT
DTSTART;TZID=America/New_York:20260407T183000
DTEND;TZID=America/New_York:20260407T200000
DTSTAMP:20260424T211957
CREATED:20260217T181950Z
LAST-MODIFIED:20260306T205436Z
UID:10000045-1775586600-1775592000@bringingoutthebest.uncg.edu
SUMMARY:Ready & Regulated: Creating Your Sensory Strategies Toolkit ***Registration is Open!
DESCRIPTION:Register Here \nDownload Flyer
URL:https://bringingoutthebest.uncg.edu/event/ready-regulated-creating-your-sensory-strategies-toolkit/
LOCATION:Greensboro Day School\, 5401 Lawndale Dr\, greensboro\, North Carolina\, 27455
CATEGORIES:Teacher Training
ATTACH;FMTTYPE=image/png:https://bringingoutthebest.uncg.edu/wp-content/uploads/2025/08/Bringing-Out-the-Best-2.png
END:VEVENT
BEGIN:VEVENT
DTSTART;TZID=America/New_York:20260310T183000
DTEND;TZID=America/New_York:20260310T200000
DTSTAMP:20260424T211957
CREATED:20250829T210052Z
LAST-MODIFIED:20260210T210307Z
UID:10000035-1773167400-1773172800@bringingoutthebest.uncg.edu
SUMMARY:Teacher Wellness: Overcoming Compassion Fatigue- Now Virtual- Registration is Open!
DESCRIPTION:Register Here \nDownload Flyer
URL:https://bringingoutthebest.uncg.edu/event/teacher-wellness-overcoming-compassion-fatigue-2/
LOCATION:Virtual
CATEGORIES:Teacher Training
ATTACH;FMTTYPE=image/png:https://bringingoutthebest.uncg.edu/wp-content/uploads/2025/08/Bringing-Out-the-Best-2.png
END:VEVENT
BEGIN:VEVENT
DTSTART;TZID=America/New_York:20260224T183000
DTEND;TZID=America/New_York:20260224T200000
DTSTAMP:20260424T211957
CREATED:20250904T143354Z
LAST-MODIFIED:20260206T141643Z
UID:10000038-1771957800-1771963200@bringingoutthebest.uncg.edu
SUMMARY:Quality Conversations - Hosted by BOB and EQuIPD *** Registration Open
DESCRIPTION:Register Here  \nDownload Flyer
URL:https://bringingoutthebest.uncg.edu/event/quality-conversations-hosted-by-bob-and-equipd/
LOCATION:NC
CATEGORIES:Teacher Training
ATTACH;FMTTYPE=image/png:https://bringingoutthebest.uncg.edu/wp-content/uploads/2025/08/Bringing-Out-the-Best-2.png
END:VEVENT
BEGIN:VEVENT
DTSTART;TZID=America/New_York:20260205T183000
DTEND;TZID=America/New_York:20260205T200000
DTSTAMP:20260424T211957
CREATED:20250829T205649Z
LAST-MODIFIED:20260202T163350Z
UID:10000034-1770316200-1770321600@bringingoutthebest.uncg.edu
SUMMARY:Setting Up Your Classroom for Success - MOVING TO VIRTUAL - training link will be sent out soon!
DESCRIPTION:Download Flyer \nRegister Here
URL:https://bringingoutthebest.uncg.edu/event/setting-up-your-classroom-for-success/
LOCATION:Virtual
CATEGORIES:Teacher Training
ATTACH;FMTTYPE=image/png:https://bringingoutthebest.uncg.edu/wp-content/uploads/2025/08/Bringing-Out-the-Best-2.png
END:VEVENT
BEGIN:VEVENT
DTSTART;TZID=America/New_York:20260122T183000
DTEND;TZID=America/New_York:20260122T200000
DTSTAMP:20260424T211957
CREATED:20250829T205247Z
LAST-MODIFIED:20251215T182813Z
UID:10000033-1769106600-1769112000@bringingoutthebest.uncg.edu
SUMMARY:Inclusion Doesn't Have to Come with a Diagnosis***Registration Open
DESCRIPTION:Register Here \nDownload Flyer
URL:https://bringingoutthebest.uncg.edu/event/inclusion-doesnt-have-to-come-with-a-diagnosis/
LOCATION:Virtual
CATEGORIES:Teacher Training
ATTACH;FMTTYPE=image/png:https://bringingoutthebest.uncg.edu/wp-content/uploads/2025/08/Bringing-Out-the-Best-2.png
END:VEVENT
BEGIN:VEVENT
DTSTART;TZID=America/New_York:20251014T183000
DTEND;TZID=America/New_York:20251014T200000
DTSTAMP:20260424T211957
CREATED:20250916T195355Z
LAST-MODIFIED:20250916T200100Z
UID:10000039-1760466600-1760472000@bringingoutthebest.uncg.edu
SUMMARY:Beyond the Behavior ***Registration Open
DESCRIPTION:Register Here  \nDownload Flyer
URL:https://bringingoutthebest.uncg.edu/event/beyond-the-behavior-registration-open/
LOCATION:Christ United Methodist Church\, 410 N Holden Rd.\, Greensboro\, NC\, 27410\, United States
CATEGORIES:Teacher Training
ATTACH;FMTTYPE=image/png:https://bringingoutthebest.uncg.edu/wp-content/uploads/2025/09/Beyond-the-Behavior-Training-Flyer-2025.png
END:VEVENT
BEGIN:VEVENT
DTSTART;TZID=America/New_York:20251007T183000
DTEND;TZID=America/New_York:20251007T200000
DTSTAMP:20260424T211957
CREATED:20250829T204412Z
LAST-MODIFIED:20250903T202641Z
UID:10000032-1759861800-1759867200@bringingoutthebest.uncg.edu
SUMMARY:Teacher Wellness: Overcoming Compassion Fatigue *** Registration Open
DESCRIPTION:Register Here \nDownload Flyer 
URL:https://bringingoutthebest.uncg.edu/event/teacher-wellness-overcoming-compassion-fatigue/
LOCATION:Starmount Presbyterian Church\, 3501 West Market St\, Greensboro\, NC\, 27403\, United States
CATEGORIES:Teacher Training
ATTACH;FMTTYPE=image/png:https://bringingoutthebest.uncg.edu/wp-content/uploads/2025/08/Teacher-Wellness-Overcoming-Compassion-Fatigue-Training-.png
END:VEVENT
BEGIN:VEVENT
DTSTART;TZID=America/New_York:20250911T183000
DTEND;TZID=America/New_York:20250911T200000
DTSTAMP:20260424T211957
CREATED:20250812T190657Z
LAST-MODIFIED:20250829T210901Z
UID:10000031-1757615400-1757620800@bringingoutthebest.uncg.edu
SUMMARY:Teaching Outside of Circle Time: Embedded Lessons ***Registration Open
DESCRIPTION:Register Here \nDownload Flyer
URL:https://bringingoutthebest.uncg.edu/event/teaching-outside-of-circle-time-embedded-lessons-registration-open/
LOCATION:Starmount Presbyterian Church\, 3501 West Market St\, Greensboro\, NC\, 27403\, United States
CATEGORIES:Teacher Training
ATTACH;FMTTYPE=image/png:https://bringingoutthebest.uncg.edu/wp-content/uploads/2025/08/Embedded-Teaching-Teach-Outside-of-Circle-1.png
END:VEVENT
BEGIN:VEVENT
DTSTART;TZID=America/New_York:20250501T183000
DTEND;TZID=America/New_York:20250501T200000
DTSTAMP:20260424T211957
CREATED:20240905T134000Z
LAST-MODIFIED:20250401T171747Z
UID:10000019-1746124200-1746129600@bringingoutthebest.uncg.edu
SUMMARY:Communicating with Families ***Registration Open
DESCRIPTION:  \nRegister Here  \nClick here to download flyer
URL:https://bringingoutthebest.uncg.edu/event/communication-with-families/
LOCATION:NC
CATEGORIES:Teacher Training
ATTACH;FMTTYPE=image/gif:https://bringingoutthebest.uncg.edu/wp-content/uploads/2024/09/KatyMolony.gif
END:VEVENT
BEGIN:VEVENT
DTSTART;VALUE=DATE:20250426
DTEND;VALUE=DATE:20250427
DTSTAMP:20260424T211957
CREATED:20250213T204606Z
LAST-MODIFIED:20250219T162059Z
UID:10000026-1745625600-1745711999@bringingoutthebest.uncg.edu
SUMMARY:STRETCH - Early Educators Professional Development Day
DESCRIPTION:Download PDF of flyer here
URL:https://bringingoutthebest.uncg.edu/event/stretch-early-educators-professional-development-day/
LOCATION:NC
CATEGORIES:Teacher Training
ATTACH;FMTTYPE=image/png:https://bringingoutthebest.uncg.edu/wp-content/uploads/2025/02/GELC-Save-the-Date-Cover1.png
END:VEVENT
BEGIN:VEVENT
DTSTART;TZID=America/New_York:20250401T183000
DTEND;TZID=America/New_York:20250401T200000
DTSTAMP:20260424T211957
CREATED:20240905T133528Z
LAST-MODIFIED:20250401T171409Z
UID:10000018-1743532200-1743537600@bringingoutthebest.uncg.edu
SUMMARY:Puppetry in the Classroom ***Registration Closed
DESCRIPTION: 
URL:https://bringingoutthebest.uncg.edu/event/puppetry-in-the-classroom/
LOCATION:Starmount Presbyterian Church\, 3501 West Market St\, Greensboro\, NC\, 27403\, United States
CATEGORIES:Teacher Training
ATTACH;FMTTYPE=image/gif:https://bringingoutthebest.uncg.edu/wp-content/uploads/2024/09/KatyMolony.gif
END:VEVENT
BEGIN:VEVENT
DTSTART;TZID=America/New_York:20250313T183000
DTEND;TZID=America/New_York:20250313T200000
DTSTAMP:20260424T211957
CREATED:20240905T133103Z
LAST-MODIFIED:20250219T133621Z
UID:10000017-1741890600-1741896000@bringingoutthebest.uncg.edu
SUMMARY:De-Escalation / Make It-Take It  ***REGISTRATION NOW OPEN
DESCRIPTION:Click to download flyer \nRegister Here
URL:https://bringingoutthebest.uncg.edu/event/de-escalation-make-it-take-it/
LOCATION:Jamestown Presbyterian Church\, 1804 Guilford College Rd\, 27282\, NC\, 27282\, United States
CATEGORIES:Teacher Training
ATTACH;FMTTYPE=image/gif:https://bringingoutthebest.uncg.edu/wp-content/uploads/2024/09/KatyMolony.gif
END:VEVENT
BEGIN:VEVENT
DTSTART;TZID=America/New_York:20250116T183000
DTEND;TZID=America/New_York:20250116T200000
DTSTAMP:20260424T211957
CREATED:20240905T131512Z
LAST-MODIFIED:20241206T161016Z
UID:10000016-1737052200-1737057600@bringingoutthebest.uncg.edu
SUMMARY:Importance of Play ***Registration Now Open
DESCRIPTION:Click to download flyer \nRegister Here \n 
URL:https://bringingoutthebest.uncg.edu/event/importance-of-play/
LOCATION:Jamestown Presbyterian Church\, 1804 Guilford College Rd\, 27282\, NC\, 27282\, United States
CATEGORIES:Teacher Training
ATTACH;FMTTYPE=image/png:https://bringingoutthebest.uncg.edu/wp-content/uploads/2024/09/The-Importance-of-Play-Training-Flyer-4.png
END:VEVENT
BEGIN:VEVENT
DTSTART;TZID=America/New_York:20241205T180000
DTEND;TZID=America/New_York:20241205T193000
DTSTAMP:20260424T211957
CREATED:20241113T184243Z
LAST-MODIFIED:20241113T204850Z
UID:10000021-1733421600-1733427000@bringingoutthebest.uncg.edu
SUMMARY:Virtual Pop-Up BOB Training***Registration Now Open
DESCRIPTION:Join BOB Specialist\, Mary Jordan\, to talk about challenging behaviors you’re seeing in your classroom! Explore ways to address your individual classroom needs with a panel of BOB staff! \nEarn 1.5. DCDEE Credits! \n \nClick to download flyer \nRegister Here
URL:https://bringingoutthebest.uncg.edu/event/virtual-pop-up-bob-training-theres-always-a-reason-for-the-the-behavior-registration-now-open/
LOCATION:https://bringingoutthebest.uncg.edu/event/virtual-pop-up-bob-training-theres-always-a-reason-for-the-the-behavior-registration-now-open/
CATEGORIES:Teacher Training
END:VEVENT
BEGIN:VEVENT
DTSTART;TZID=America/New_York:20241113T183000
DTEND;TZID=America/New_York:20241113T200000
DTSTAMP:20260424T211957
CREATED:20240905T130142Z
LAST-MODIFIED:20241113T210243Z
UID:10000015-1731522600-1731528000@bringingoutthebest.uncg.edu
SUMMARY:Trauma Responsive Care for Caregivers *** REGISTRATION OPEN
DESCRIPTION:Click to download flyer \n  \nRegister Here
URL:https://bringingoutthebest.uncg.edu/event/trauma-response-training-and-self-care/
LOCATION:Jamestown Presbyterian Church\, 1804 Guilford College Rd\, 27282\, NC\, 27282\, United States
CATEGORIES:Teacher Training
END:VEVENT
BEGIN:VEVENT
DTSTART;TZID=America/New_York:20241104T093000
DTEND;TZID=America/New_York:20241104T113000
DTSTAMP:20260424T211957
CREATED:20241011T193108Z
LAST-MODIFIED:20241011T193531Z
UID:10000020-1730712600-1730719800@bringingoutthebest.uncg.edu
SUMMARY:From Arrival to Departure: Reducing Challenging Behaviors - Just Added! Registration Open
DESCRIPTION:Click to download flyer \n  \nRegister Here
URL:https://bringingoutthebest.uncg.edu/event/from-arrival-to-departure-reducing-challenging-behaviors-just-added-registration-open/
LOCATION:NC
CATEGORIES:Teacher Training
END:VEVENT
BEGIN:VEVENT
DTSTART;TZID=America/New_York:20240912T183000
DTEND;TZID=America/New_York:20240912T200000
DTSTAMP:20260424T211957
CREATED:20240820T195510Z
LAST-MODIFIED:20240905T131733Z
UID:10000007-1726165800-1726171200@bringingoutthebest.uncg.edu
SUMMARY:Beyond the Behavior
DESCRIPTION:Download Flyer Here \nRegister Here
URL:https://bringingoutthebest.uncg.edu/event/beyond-the-behavior/
LOCATION:https://bringingoutthebest.uncg.edu/event/beyond-the-behavior/
CATEGORIES:Teacher Training
ATTACH;FMTTYPE=image/png:https://bringingoutthebest.uncg.edu/wp-content/uploads/2024/08/BeyondTheBehaviorImage.png
END:VEVENT
BEGIN:VEVENT
DTSTART;TZID=America/New_York:20240820T183000
DTEND;TZID=America/New_York:20240820T200000
DTSTAMP:20260424T211957
CREATED:20240807T152903Z
LAST-MODIFIED:20240807T153253Z
UID:10000006-1724178600-1724184000@bringingoutthebest.uncg.edu
SUMMARY:Strengthening Interactions to Improve Quality Connections
DESCRIPTION:Click to download flyer \n  \n  \nRegister Here
URL:https://bringingoutthebest.uncg.edu/event/strengthening-interactions-to-improve-quality-connections/
LOCATION:Starmount Presbyterian Church\, 3501 West Market St\, Greensboro\, NC\, 27403\, United States
CATEGORIES:Teacher Training
ATTACH;FMTTYPE=image/png:https://bringingoutthebest.uncg.edu/wp-content/uploads/2024/08/Strengthening-Interactions-to-Improve-Quality-Connections-Training-Flyer-2.png
END:VEVENT
BEGIN:VEVENT
DTSTART;TZID=America/New_York:20240423T183000
DTEND;TZID=America/New_York:20240423T200000
DTSTAMP:20260424T211957
CREATED:20240311T183704Z
LAST-MODIFIED:20240424T170637Z
UID:10000004-1713897000-1713902400@bringingoutthebest.uncg.edu
SUMMARY:Outdoor Environments to Support Social-Emotional Development
DESCRIPTION:presented by: Courtney Barrett\, Mary Jordan and Trish Nelson from EQuIPD \nParticipants will explore this model outdoor play environment.  Throughout the tour\, presenters will share strategies to enhance friendship formation\, social skills\, and emotional literacy in the natural outdoor environment. (1.5 DCDEE contact hours) \nCheck back soon for the registration link
URL:https://bringingoutthebest.uncg.edu/event/outdoor-environments-to-support-social-emotional-development/
LOCATION:Friendly Avenue Christian Preschool\, 4800 Friendly Avenue\, Greensboro\, NC\, 27410\, United States
CATEGORIES:Teacher Training
END:VEVENT
BEGIN:VEVENT
DTSTART;TZID=America/New_York:20240406T080000
DTEND;TZID=America/New_York:20240406T160000
DTSTAMP:20260424T211957
CREATED:20240311T181855Z
LAST-MODIFIED:20240311T183130Z
UID:10000003-1712390400-1712419200@bringingoutthebest.uncg.edu
SUMMARY:Enveloped in Belonging: Quilting the Pieces Together
DESCRIPTION:Guilford Early Learning Collaborative (GELC) Presents \nEnveloped in Belonging: Quilting the Pieces Together \n  \nClick here to download the flyer and to register. \nQuilting-the-Pieces-Together \n  \nor\, just follow this link for registration.
URL:https://bringingoutthebest.uncg.edu/event/enveloped-in-belonging-quilting-the-pieces-together/
LOCATION:Global Learning Center\, Bennett College\, 521 Gorrell St\, Greensboro\, NC\, 27403\, United States
CATEGORIES:Teacher Training
ATTACH;FMTTYPE=image/jpeg:https://bringingoutthebest.uncg.edu/wp-content/uploads/2024/03/QuiltingThePiecesTogether.jpg
END:VEVENT
BEGIN:VEVENT
DTSTART;TZID=America/New_York:20240314T183000
DTEND;TZID=America/New_York:20240314T203000
DTSTAMP:20260424T211957
CREATED:20240311T175843Z
LAST-MODIFIED:20240311T184013Z
UID:10000002-1710441000-1710448200@bringingoutthebest.uncg.edu
SUMMARY:The Pyramid Model: Teaching Problem-Solving Skills
DESCRIPTION:The Pyramid Model: Teaching Problem-Solving Skills \npresented by: Courtney Barrett \nClick here to register
URL:https://bringingoutthebest.uncg.edu/event/the-pyramid-model-teaching-problem-solving-skills/
LOCATION:Starmount Presbyterian Church\, 3501 West Market St\, Greensboro\, NC\, 27403\, United States
CATEGORIES:Teacher Training
END:VEVENT
END:VCALENDAR